BEGIN:VCALENDAR
VERSION:2.0
PRODID:-//wp-events-plugin.com//7.2.3.1//EN
BEGIN:VEVENT
UID:22916@sc-dietersheim.de
DTSTART:20231123T183000Z
DTEND:20231123T203000Z
DTSTAMP:20230814T123439Z
URL:https://sc-dietersheim.de/events/sc-dietersheim-gegen-tsv-marktbergel/
SUMMARY:SC Dietersheim gegen TSV Marktbergel
DESCRIPTION:
CATEGORIES:Tischtennis - Spiele 1. Mannschaft
LOCATION:Mehrzweckhalle Dietersheim\, Schützenstraße 20\, Dietersheim\, B
 ayern\, 91463\, Deutschland
X-APPLE-STRUCTURED-LOCATION;VALUE=URI;X-ADDRESS=Schützenstraße 20\, Diete
 rsheim\, Bayern\, 91463\, Deutschland;X-APPLE-RADIUS=100;X-TITLE=Mehrzweck
 halle Dietersheim:geo:0,0
END:VEVENT
END:VCALENDAR